BEGIN:VCALENDAR
VERSION:2.0
PRODID:-//Markaut//Trade Fair Calendar//EN
CALSCALE:GREGORIAN
METHOD:PUBLISH
BEGIN:VEVENT
UID:wne-world-nuclear-exhibition-paris-france@markaut.com
DTSTAMP:20260421T171040Z
DTSTART;VALUE=DATE:20271101
DTEND;VALUE=DATE:20271102
SUMMARY:WNE World Nuclear Exhibition
LOCATION:Paris-Nord Villepinte Parc d\'Expositions et Centre de Conventions (VIPARIS), Paris, France
DESCRIPTION:International Trade Fair for Peaceful Nuclear Energy and Technology
URL:https://www.markaut.com/de/fairs/wne-world-nuclear-exhibition-paris-france/
END:VEVENT
END:VCALENDAR
