BEGIN:VCALENDAR
VERSION:2.0
PRODID:-//Markaut//Trade Fair Calendar//EN
CALSCALE:GREGORIAN
METHOD:PUBLISH
BEGIN:VEVENT
UID:swe-service-world-expo-not-yet-determined-united-states-of-america@markaut.com
DTSTAMP:20260422T004612Z
DTSTART;VALUE=DATE:20260901
DTEND;VALUE=DATE:20260902
SUMMARY:SWE - Service World Expo
LOCATION:noch offen/not yet determined, not yet determined, United States of America
DESCRIPTION:
URL:https://www.markaut.com/de/fairs/swe-service-world-expo-not-yet-determined-united-states-of-america/
END:VEVENT
END:VCALENDAR
