BEGIN:VCALENDAR
VERSION:2.0
PRODID:-//Markaut//Trade Fair Calendar//EN
CALSCALE:GREGORIAN
METHOD:PUBLISH
BEGIN:VEVENT
UID:spoex-seoul-korea-republic@markaut.com
DTSTAMP:20260420T010920Z
DTSTART;VALUE=DATE:20260420
DTEND;VALUE=DATE:20260421
SUMMARY:SPOEX
LOCATION:COEX Convention & Exhibition Center, Seoul, Korea, Republic
DESCRIPTION:Seoul International Sports & Leisure Industry Exhibition
URL:https://www.markaut.com/de/fairs/spoex-seoul-korea-republic/
END:VEVENT
END:VCALENDAR
