BEGIN:VCALENDAR
VERSION:2.0
PRODID:-//Markaut//Trade Fair Calendar//EN
CALSCALE:GREGORIAN
METHOD:PUBLISH
BEGIN:VEVENT
UID:southampton-international-boat-show-southampton-united-kingdom-of-great-britain-and-northern-ireland@markaut.com
DTSTAMP:20260419T121324Z
DTSTART;VALUE=DATE:20260901
DTEND;VALUE=DATE:20260902
SUMMARY:Southampton International Boat Show
LOCATION:Mayflower Park, Southampton, United Kingdom of Great Britain and Northern Ireland
DESCRIPTION:
URL:https://www.markaut.com/de/fairs/southampton-international-boat-show-southampton-united-kingdom-of-great-britain-and-northern-ireland/
END:VEVENT
END:VCALENDAR
