BEGIN:VCALENDAR
VERSION:2.0
PRODID:-//Markaut//Trade Fair Calendar//EN
CALSCALE:GREGORIAN
METHOD:PUBLISH
BEGIN:VEVENT
UID:salon-de-lauto-montreal-canada@markaut.com
DTSTAMP:20260419T183846Z
DTSTART;VALUE=DATE:20260419
DTEND;VALUE=DATE:20260420
SUMMARY:Salon de l\'Auto
LOCATION:Palais des Congrès de Montréal, Montreal, Canada
DESCRIPTION:The Montreal Auto Show
URL:https://www.markaut.com/de/fairs/salon-de-lauto-montreal-canada/
END:VEVENT
END:VCALENDAR
