BEGIN:VCALENDAR
VERSION:2.0
PRODID:-//Markaut//Trade Fair Calendar//EN
CALSCALE:GREGORIAN
METHOD:PUBLISH
BEGIN:VEVENT
UID:qazpack-almaty-kazakhstan@markaut.com
DTSTAMP:20260422T074951Z
DTSTART;VALUE=DATE:20260422
DTEND;VALUE=DATE:20260423
SUMMARY:QazPack
LOCATION:Atakent Exhibition Center, Almaty, Kazakhstan
DESCRIPTION:Kazakhstan International Exhibition \'Packaging, Tare, Label\'
URL:https://www.markaut.com/de/fairs/qazpack-almaty-kazakhstan/
END:VEVENT
END:VCALENDAR
