BEGIN:VCALENDAR
VERSION:2.0
PRODID:-//Markaut//Trade Fair Calendar//EN
CALSCALE:GREGORIAN
METHOD:PUBLISH
BEGIN:VEVENT
UID:prowine-tokyo-tokyo-japan@markaut.com
DTSTAMP:20260421T121536Z
DTSTART;VALUE=DATE:20270401
DTEND;VALUE=DATE:20270402
SUMMARY:ProWine Tokyo
LOCATION:Tokyo Big Sight, Tokyo International Exhibition Center, Tokyo, Japan
DESCRIPTION:International Trade Fair for Wines and Spirits
URL:https://www.markaut.com/de/fairs/prowine-tokyo-tokyo-japan/
END:VEVENT
END:VCALENDAR
