BEGIN:VCALENDAR
VERSION:2.0
PRODID:-//Markaut//Trade Fair Calendar//EN
CALSCALE:GREGORIAN
METHOD:PUBLISH
BEGIN:VEVENT
UID:prowein-dusseldorf-germany@markaut.com
DTSTAMP:20260421T155710Z
DTSTART;VALUE=DATE:20260421
DTEND;VALUE=DATE:20260422
SUMMARY:ProWein
LOCATION:Messegelände, Dusseldorf, Germany
DESCRIPTION:International Trade Fair for Wine and Spirits
URL:https://www.markaut.com/de/fairs/prowein-dusseldorf-germany/
END:VEVENT
END:VCALENDAR
