BEGIN:VCALENDAR
VERSION:2.0
PRODID:-//Markaut//Trade Fair Calendar//EN
CALSCALE:GREGORIAN
METHOD:PUBLISH
BEGIN:VEVENT
UID:professional-beauty-india-mumbai-bombay-india@markaut.com
DTSTAMP:20260419T145936Z
DTSTART;VALUE=DATE:20261001
DTEND;VALUE=DATE:20261002
SUMMARY:Professional Beauty India
LOCATION:Bombay Exhibition Centre (BEC), Mumbai (Bombay), India
DESCRIPTION:
URL:https://www.markaut.com/de/fairs/professional-beauty-india-mumbai-bombay-india/
END:VEVENT
END:VCALENDAR
