BEGIN:VCALENDAR
VERSION:2.0
PRODID:-//Markaut//Trade Fair Calendar//EN
CALSCALE:GREGORIAN
METHOD:PUBLISH
BEGIN:VEVENT
UID:polagra-foodtech-poznan-poland@markaut.com
DTSTAMP:20260420T082758Z
DTSTART;VALUE=DATE:20270901
DTEND;VALUE=DATE:20270902
SUMMARY:POLAGRA FOODTECH
LOCATION:Poznan International Fair, Poznan, Poland
DESCRIPTION:International Trade Fair of Food Processing Technologies
URL:https://www.markaut.com/de/fairs/polagra-foodtech-poznan-poland/
END:VEVENT
END:VCALENDAR
