BEGIN:VCALENDAR
VERSION:2.0
PRODID:-//Markaut//Trade Fair Calendar//EN
CALSCALE:GREGORIAN
METHOD:PUBLISH
BEGIN:VEVENT
UID:jfex-tokyo-japan@markaut.com
DTSTAMP:20260420T075146Z
DTSTART;VALUE=DATE:20260420
DTEND;VALUE=DATE:20260421
SUMMARY:JFEX
LOCATION:Tokyo Big Sight, Tokyo International Exhibition Center, Tokyo, Japan
DESCRIPTION:Japan International Food & Beverage Expo
URL:https://www.markaut.com/de/fairs/jfex-tokyo-japan/
END:VEVENT
END:VCALENDAR
