BEGIN:VCALENDAR
VERSION:2.0
PRODID:-//Markaut//Trade Fair Calendar//EN
CALSCALE:GREGORIAN
METHOD:PUBLISH
BEGIN:VEVENT
UID:iran-print-pack-tehran-iran-islamic-republic@markaut.com
DTSTAMP:20260422T042026Z
DTSTART;VALUE=DATE:20271201
DTEND;VALUE=DATE:20271202
SUMMARY:IRAN PRINT & PACK
LOCATION:Tehran International Permanent Fairground, Tehran, Iran, Islamic Republic
DESCRIPTION:Int\'l. Pack & Print Machinery Exhibition of Iran
URL:https://www.markaut.com/de/fairs/iran-print-pack-tehran-iran-islamic-republic/
END:VEVENT
END:VCALENDAR
