BEGIN:VCALENDAR
VERSION:2.0
PRODID:-//Markaut//Trade Fair Calendar//EN
CALSCALE:GREGORIAN
METHOD:PUBLISH
BEGIN:VEVENT
UID:interpack-dusseldorf-germany@markaut.com
DTSTAMP:20260422T041642Z
DTSTART;VALUE=DATE:20290501
DTEND;VALUE=DATE:20290502
SUMMARY:interpack
LOCATION:Messegelände, Dusseldorf, Germany
DESCRIPTION:PROCESSING AND PACKAGING
URL:https://www.markaut.com/de/fairs/interpack-dusseldorf-germany/
END:VEVENT
END:VCALENDAR
