BEGIN:VCALENDAR
VERSION:2.0
PRODID:-//Markaut//Trade Fair Calendar//EN
CALSCALE:GREGORIAN
METHOD:PUBLISH
BEGIN:VEVENT
UID:indiacorr-expo-sinocorrugated-not-yet-determined-india@markaut.com
DTSTAMP:20260420T014229Z
DTSTART;VALUE=DATE:20270901
DTEND;VALUE=DATE:20270902
SUMMARY:IndiaCorr Expo - SinoCorrugated
LOCATION:noch offen/not yet determined, not yet determined, India
DESCRIPTION:International Event for Corrugated Packaging, Folding Carton & Paper Industry
URL:https://www.markaut.com/de/fairs/indiacorr-expo-sinocorrugated-not-yet-determined-india/
END:VEVENT
END:VCALENDAR
