BEGIN:VCALENDAR
VERSION:2.0
PRODID:-//Markaut//Trade Fair Calendar//EN
CALSCALE:GREGORIAN
METHOD:PUBLISH
BEGIN:VEVENT
UID:ibs-las-vegas-united-states-of-america@markaut.com
DTSTAMP:20260422T222236Z
DTSTART;VALUE=DATE:20260423
DTEND;VALUE=DATE:20260424
SUMMARY:IBS
LOCATION:Las Vegas Convention Center, Las Vegas, United States of America
DESCRIPTION:NAHB International Builders\' Show
URL:https://www.markaut.com/de/fairs/ibs-las-vegas-united-states-of-america/
END:VEVENT
END:VCALENDAR
