BEGIN:VCALENDAR
VERSION:2.0
PRODID:-//Markaut//Trade Fair Calendar//EN
CALSCALE:GREGORIAN
METHOD:PUBLISH
BEGIN:VEVENT
UID:eurobike-frankfurt-on-the-main-germany@markaut.com
DTSTAMP:20260424T112942Z
DTSTART;VALUE=DATE:20270601
DTEND;VALUE=DATE:20270602
SUMMARY:EUROBIKE
LOCATION:Messegelände, Frankfurt on the Main, Germany
DESCRIPTION:International Bicycle Trade Exhibition
URL:https://www.markaut.com/de/fairs/eurobike-frankfurt-on-the-main-germany/
END:VEVENT
END:VCALENDAR
