BEGIN:VCALENDAR
VERSION:2.0
PRODID:-//Markaut//Trade Fair Calendar//EN
CALSCALE:GREGORIAN
METHOD:PUBLISH
BEGIN:VEVENT
UID:esxence-milan-italy@markaut.com
DTSTAMP:20260419T175143Z
DTSTART;VALUE=DATE:20260419
DTEND;VALUE=DATE:20260420
SUMMARY:Esxence
LOCATION:Allianz MiCo - Milano Convention Centre, Milan, Italy
DESCRIPTION:The Art Perfumery Event
URL:https://www.markaut.com/de/fairs/esxence-milan-italy/
END:VEVENT
END:VCALENDAR
