BEGIN:VCALENDAR
VERSION:2.0
PRODID:-//Markaut//Trade Fair Calendar//EN
CALSCALE:GREGORIAN
METHOD:PUBLISH
BEGIN:VEVENT
UID:empack-zurich-switzerland@markaut.com
DTSTAMP:20260422T004012Z
DTSTART;VALUE=DATE:20270101
DTEND;VALUE=DATE:20270102
SUMMARY:EMPACK
LOCATION:Messe Zürich, Zurich, Switzerland
DESCRIPTION:The future of packaging Technology
URL:https://www.markaut.com/de/fairs/empack-zurich-switzerland/
END:VEVENT
END:VCALENDAR
