BEGIN:VCALENDAR
VERSION:2.0
PRODID:-//Markaut//Trade Fair Calendar//EN
CALSCALE:GREGORIAN
METHOD:PUBLISH
BEGIN:VEVENT
UID:eicma-moto-milan-italy@markaut.com
DTSTAMP:20260424T165857Z
DTSTART;VALUE=DATE:20260424
DTEND;VALUE=DATE:20260425
SUMMARY:EICMA MOTO
LOCATION:fieramilano (Rho), Milan, Italy
DESCRIPTION:International Motorcycle Exhibition
URL:https://www.markaut.com/de/fairs/eicma-moto-milan-italy/
END:VEVENT
END:VCALENDAR
