BEGIN:VCALENDAR
VERSION:2.0
PRODID:-//Markaut//Trade Fair Calendar//EN
CALSCALE:GREGORIAN
METHOD:PUBLISH
BEGIN:VEVENT
UID:dsa-kuala-lumpur-malaysia@markaut.com
DTSTAMP:20260420T044234Z
DTSTART;VALUE=DATE:20260420
DTEND;VALUE=DATE:20260424
SUMMARY:DSA
LOCATION:Malaysia International Trade and Exhibition Centre (Mitec), Kuala Lumpur, Malaysia
DESCRIPTION:Defence Services Asia Exhibition and Conference
URL:https://www.markaut.com/de/fairs/dsa-kuala-lumpur-malaysia/
END:VEVENT
END:VCALENDAR
