BEGIN:VCALENDAR
VERSION:2.0
PRODID:-//Markaut//Trade Fair Calendar//EN
CALSCALE:GREGORIAN
METHOD:PUBLISH
BEGIN:VEVENT
UID:creativeworld-frankfurt-on-the-main-germany@markaut.com
DTSTAMP:20260419T220455Z
DTSTART;VALUE=DATE:20260420
DTEND;VALUE=DATE:20260421
SUMMARY:Creativeworld
LOCATION:Messegelände, Frankfurt on the Main, Germany
DESCRIPTION:International Trade Fair for Hobby, Art and Craft supplies
URL:https://www.markaut.com/de/fairs/creativeworld-frankfurt-on-the-main-germany/
END:VEVENT
END:VCALENDAR
