BEGIN:VCALENDAR
VERSION:2.0
PRODID:-//Markaut//Trade Fair Calendar//EN
CALSCALE:GREGORIAN
METHOD:PUBLISH
BEGIN:VEVENT
UID:china-brew-china-beverage-shanghai-china-peoples-republic@markaut.com
DTSTAMP:20260419T123504Z
DTSTART;VALUE=DATE:20260419
DTEND;VALUE=DATE:20260420
SUMMARY:CHINA BREW CHINA BEVERAGE
LOCATION:SNIEC - Shanghai New International Expo Centre, Shanghai, China, People\'s Republic
DESCRIPTION:International Brew & Beverage Processing Technology and Equipment Exhibition for China
URL:https://www.markaut.com/de/fairs/china-brew-china-beverage-shanghai-china-peoples-republic/
END:VEVENT
END:VCALENDAR
