BEGIN:VCALENDAR
VERSION:2.0
PRODID:-//Markaut//Trade Fair Calendar//EN
CALSCALE:GREGORIAN
METHOD:PUBLISH
BEGIN:VEVENT
UID:big-5-construct-nigeria-lagos-nigeria@markaut.com
DTSTAMP:20260422T221806Z
DTSTART;VALUE=DATE:20260423
DTEND;VALUE=DATE:20260424
SUMMARY:Big 5 Construct Nigeria
LOCATION:Landmark Centre, Lagos, Nigeria
DESCRIPTION:Nigeria\'s Building & Construction Trade Fair
URL:https://www.markaut.com/de/fairs/big-5-construct-nigeria-lagos-nigeria/
END:VEVENT
END:VCALENDAR
