BEGIN:VCALENDAR
VERSION:2.0
PRODID:-//Markaut//Trade Fair Calendar//EN
CALSCALE:GREGORIAN
METHOD:PUBLISH
BEGIN:VEVENT
UID:arabian-travel-market-dubai-united-arab-emirates@markaut.com
DTSTAMP:20260424T113744Z
DTSTART;VALUE=DATE:20270401
DTEND;VALUE=DATE:20270402
SUMMARY:Arabian Travel Market
LOCATION:Dubai International Convention & Exhibition Centre - Dubai World Trade Centre (DWTC), Dubai, United Arab Emirates
DESCRIPTION:Exhibition of Products & Services related to the Travel Industry
URL:https://www.markaut.com/de/fairs/arabian-travel-market-dubai-united-arab-emirates/
END:VEVENT
END:VCALENDAR
