BEGIN:VCALENDAR
VERSION:2.0
PRODID:-//Markaut//Trade Fair Calendar//EN
CALSCALE:GREGORIAN
METHOD:PUBLISH
BEGIN:VEVENT
UID:alimentaria-foodtech-barcelona-spain@markaut.com
DTSTAMP:20260420T045851Z
DTSTART;VALUE=DATE:20260420
DTEND;VALUE=DATE:20260421
SUMMARY:Alimentaria FoodTech
LOCATION:Fira Barcelona - Gran Vía, Barcelona, Spain
DESCRIPTION:The machinery, technology, and ingredients trade fair for the integrated food and beverages processing and preservation chain.
URL:https://www.markaut.com/de/fairs/alimentaria-foodtech-barcelona-spain/
END:VEVENT
END:VCALENDAR
