BEGIN:VCALENDAR
VERSION:2.0
PRODID:-//Markaut//Trade Fair Calendar//EN
CALSCALE:GREGORIAN
METHOD:PUBLISH
BEGIN:VEVENT
UID:slas-europe-vienna-austria@markaut.com
DTSTAMP:20260424T084212Z
DTSTART;VALUE=DATE:20260424
DTEND;VALUE=DATE:20260425
SUMMARY:SLAS EUROPE
LOCATION:VIECON Vienna Congress & Convention Center (Messe Wien), Vienna, Austria
DESCRIPTION:Exhibition & Conference
URL:https://www.markaut.com/da/fairs/slas-europe-vienna-austria/
END:VEVENT
END:VCALENDAR
