BEGIN:VCALENDAR
VERSION:2.0
PRODID:-//Markaut//Trade Fair Calendar//EN
CALSCALE:GREGORIAN
METHOD:PUBLISH
BEGIN:VEVENT
UID:nordic-organic-food-fair-ecoliving-scandinavia-malmoe-sweden@markaut.com
DTSTAMP:20260422T145652Z
DTSTART;VALUE=DATE:20261101
DTEND;VALUE=DATE:20261102
SUMMARY:Nordic Organic Food Fair / ecoliving Scandinavia
LOCATION:MalmöMässan, Malmoe, Sweden
DESCRIPTION:
URL:https://www.markaut.com/da/fairs/nordic-organic-food-fair-ecoliving-scandinavia-malmoe-sweden/
END:VEVENT
END:VCALENDAR
