BEGIN:VCALENDAR
VERSION:2.0
PRODID:-//Markaut//Trade Fair Calendar//EN
CALSCALE:GREGORIAN
METHOD:PUBLISH
BEGIN:VEVENT
UID:mcb-salon-mondial-coiffure-beaut-paris-france@markaut.com
DTSTAMP:20260420T011151Z
DTSTART;VALUE=DATE:20260901
DTEND;VALUE=DATE:20260902
SUMMARY:MCB - Salon Mondial Coiffure Beauté
LOCATION:Paris expo Porte de Versailles (VIPARIS), Paris, France
DESCRIPTION:Internationale Fachmesse für das Friseurhandwerk und die Haarkosmetikindustrie
URL:https://www.markaut.com/da/fairs/mcb-salon-mondial-coiffure-beaut-paris-france/
END:VEVENT
END:VCALENDAR
