BEGIN:VCALENDAR
VERSION:2.0
PRODID:-//Markaut//Trade Fair Calendar//EN
CALSCALE:GREGORIAN
METHOD:PUBLISH
BEGIN:VEVENT
UID:kessel-und-brenner-st-petersburg-russia@markaut.com
DTSTAMP:20260422T075247Z
DTSTART;VALUE=DATE:20261001
DTEND;VALUE=DATE:20261002
SUMMARY:Kessel und Brenner
LOCATION:ExpoForum, St. Petersburg, Russia
DESCRIPTION:Boilers and Burners
URL:https://www.markaut.com/da/fairs/kessel-und-brenner-st-petersburg-russia/
END:VEVENT
END:VCALENDAR
