BEGIN:VCALENDAR
VERSION:2.0
PRODID:-//Markaut//Trade Fair Calendar//EN
CALSCALE:GREGORIAN
METHOD:PUBLISH
BEGIN:VEVENT
UID:fia-lisboa-lisbon-portugal@markaut.com
DTSTAMP:20260422T004248Z
DTSTART;VALUE=DATE:20270601
DTEND;VALUE=DATE:20270602
SUMMARY:FIA LISBOA
LOCATION:Feira Internacional de Lisboa, Lisbon, Portugal
DESCRIPTION:International Handicraft Exhibition
URL:https://www.markaut.com/da/fairs/fia-lisboa-lisbon-portugal/
END:VEVENT
END:VCALENDAR
