BEGIN:VCALENDAR
VERSION:2.0
PRODID:-//Markaut//Trade Fair Calendar//EN
CALSCALE:GREGORIAN
METHOD:PUBLISH
BEGIN:VEVENT
UID:stone-tec-n-rnberg-nuremberg-germany@markaut.com
DTSTAMP:20260424T103314Z
DTSTART;VALUE=DATE:20260424
DTEND;VALUE=DATE:20260425
SUMMARY:Stone+tec Nürnberg
LOCATION:Messezentrum, Nuremberg, Germany
DESCRIPTION:International Competence Forum Natural Stone and Stone Technology, Trade Fair + Congress
URL:https://www.markaut.com/ar/fairs/stone-tec-n-rnberg-nuremberg-germany/
END:VEVENT
END:VCALENDAR
