BEGIN:VCALENDAR
VERSION:2.0
PRODID:-//Markaut//Trade Fair Calendar//EN
CALSCALE:GREGORIAN
METHOD:PUBLISH
BEGIN:VEVENT
UID:sofex-amman-jordan@markaut.com
DTSTAMP:20260420T044116Z
DTSTART;VALUE=DATE:20260420
DTEND;VALUE=DATE:20260421
SUMMARY:SOFEX
LOCATION:King Abdullah Military Airbase, Amman, Jordan
DESCRIPTION:Special Operations Forces Exhibition and Conference
URL:https://www.markaut.com/ar/fairs/sofex-amman-jordan/
END:VEVENT
END:VCALENDAR
