BEGIN:VCALENDAR
VERSION:2.0
PRODID:-//Markaut//Trade Fair Calendar//EN
CALSCALE:GREGORIAN
METHOD:PUBLISH
BEGIN:VEVENT
UID:sandwich-and-snack-show-paris-france@markaut.com
DTSTAMP:20260421T153907Z
DTSTART;VALUE=DATE:20270401
DTEND;VALUE=DATE:20270402
SUMMARY:Sandwich and Snack Show
LOCATION:Paris expo Porte de Versailles (VIPARIS), Paris, France
DESCRIPTION:The Leading Event for the Snack and Food-On-The-Go-Market
URL:https://www.markaut.com/ar/fairs/sandwich-and-snack-show-paris-france/
END:VEVENT
END:VCALENDAR
