BEGIN:VCALENDAR
VERSION:2.0
PRODID:-//Markaut//Trade Fair Calendar//EN
CALSCALE:GREGORIAN
METHOD:PUBLISH
BEGIN:VEVENT
UID:rehab-karlsruhe-germany@markaut.com
DTSTAMP:20260422T004151Z
DTSTART;VALUE=DATE:20260422
DTEND;VALUE=DATE:20260423
SUMMARY:REHAB
LOCATION:Messe Karlsruhe, Karlsruhe, Germany
DESCRIPTION:Rehabilitation | Therapy | Care| Inclusion
URL:https://www.markaut.com/ar/fairs/rehab-karlsruhe-germany/
END:VEVENT
END:VCALENDAR
