BEGIN:VCALENDAR
VERSION:2.0
PRODID:-//Markaut//Trade Fair Calendar//EN
CALSCALE:GREGORIAN
METHOD:PUBLISH
BEGIN:VEVENT
UID:luxe-pack-monte-carlo-monaco@markaut.com
DTSTAMP:20260421T153713Z
DTSTART;VALUE=DATE:20260901
DTEND;VALUE=DATE:20260902
SUMMARY:LUXE PACK
LOCATION:Grimaldi Forum, Monte Carlo, Monaco
DESCRIPTION:Luxury Goods Packaging Exhibition
URL:https://www.markaut.com/ar/fairs/luxe-pack-monte-carlo-monaco/
END:VEVENT
END:VCALENDAR
