BEGIN:VCALENDAR
VERSION:2.0
PRODID:-//Markaut//Trade Fair Calendar//EN
CALSCALE:GREGORIAN
METHOD:PUBLISH
BEGIN:VEVENT
UID:iran-food-ingredients-part-of-iran-agrofood-tehran-iran-islamic-republic@markaut.com
DTSTAMP:20260420T061348Z
DTSTART;VALUE=DATE:20260420
DTEND;VALUE=DATE:20260421
SUMMARY:iran food ingredients (part of iran agrofood)
LOCATION:Tehran International Permanent Fairground, Tehran, Iran, Islamic Republic
DESCRIPTION:International Food Ingredients Fair
URL:https://www.markaut.com/ar/fairs/iran-food-ingredients-part-of-iran-agrofood-tehran-iran-islamic-republic/
END:VEVENT
END:VCALENDAR
