BEGIN:VCALENDAR
VERSION:2.0
PRODID:-//Markaut//Trade Fair Calendar//EN
CALSCALE:GREGORIAN
METHOD:PUBLISH
BEGIN:VEVENT
UID:interforst-munich-germany@markaut.com
DTSTAMP:20260423T103110Z
DTSTART;VALUE=DATE:20301001
DTEND;VALUE=DATE:20301002
SUMMARY:INTERFORST
LOCATION:Messe München, Munich, Germany
DESCRIPTION:International Key Trade Fair for Forestry and Forest Technology with Scientific Conferences and Special Shows
URL:https://www.markaut.com/ar/fairs/interforst-munich-germany/
END:VEVENT
END:VCALENDAR
