BEGIN:VCALENDAR
VERSION:2.0
PRODID:-//Markaut//Trade Fair Calendar//EN
CALSCALE:GREGORIAN
METHOD:PUBLISH
BEGIN:VEVENT
UID:integration-moscow-moscow-russia@markaut.com
DTSTAMP:20260422T042008Z
DTSTART;VALUE=DATE:20260421
DTEND;VALUE=DATE:20260424
SUMMARY:Integration Moscow
LOCATION:EXPOCENTRE, Moscow, Russia
DESCRIPTION:international exhibition of rehabilitation equipment and Russian Forum on orthopedics and rehabilitation equipment
URL:https://www.markaut.com/ar/fairs/integration-moscow-moscow-russia/
END:VEVENT
END:VCALENDAR
