BEGIN:VCALENDAR
VERSION:2.0
PRODID:-//Markaut//Trade Fair Calendar//EN
CALSCALE:GREGORIAN
METHOD:PUBLISH
BEGIN:VEVENT
UID:ifex-philippines-manila-philippines@markaut.com
DTSTAMP:20260420T060822Z
DTSTART;VALUE=DATE:20260420
DTEND;VALUE=DATE:20260421
SUMMARY:IFEX Philippines
LOCATION:World Trade Center Metro Manila, Manila, Philippines
DESCRIPTION:International Food Exhibition Philippines
URL:https://www.markaut.com/ar/fairs/ifex-philippines-manila-philippines/
END:VEVENT
END:VCALENDAR
