BEGIN:VCALENDAR
VERSION:2.0
PRODID:-//Markaut//Trade Fair Calendar//EN
CALSCALE:GREGORIAN
METHOD:PUBLISH
BEGIN:VEVENT
UID:ibs-new-york-new-york-united-states-of-america@markaut.com
DTSTAMP:20260419T200502Z
DTSTART;VALUE=DATE:20260419
DTEND;VALUE=DATE:20260420
SUMMARY:IBS New York
LOCATION:Jacob K. Javits Convention Center, New York, United States of America
DESCRIPTION:International Beauty Show
URL:https://www.markaut.com/ar/fairs/ibs-new-york-new-york-united-states-of-america/
END:VEVENT
END:VCALENDAR
