BEGIN:VCALENDAR
VERSION:2.0
PRODID:-//Markaut//Trade Fair Calendar//EN
CALSCALE:GREGORIAN
METHOD:PUBLISH
BEGIN:VEVENT
UID:gess-saudia-arabia-riyadh-saudi-arabia@markaut.com
DTSTAMP:20260423T134911Z
DTSTART;VALUE=DATE:20260423
DTEND;VALUE=DATE:20260424
SUMMARY:GESS Saudia Arabia
LOCATION:The Arena Riyadh Venue, Riyadh, Saudi Arabia
DESCRIPTION:Education Exhibition
URL:https://www.markaut.com/ar/fairs/gess-saudia-arabia-riyadh-saudi-arabia/
END:VEVENT
END:VCALENDAR
