BEGIN:VCALENDAR
VERSION:2.0
PRODID:-//Markaut//Trade Fair Calendar//EN
CALSCALE:GREGORIAN
METHOD:PUBLISH
BEGIN:VEVENT
UID:g-star-busan-korea-republic@markaut.com
DTSTAMP:20260423T162452Z
DTSTART;VALUE=DATE:20271101
DTEND;VALUE=DATE:20271102
SUMMARY:G-STAR
LOCATION:BEXCO Busan Exhibition & Convention Center, Busan, Korea, Republic
DESCRIPTION:Global Game Exhibition
URL:https://www.markaut.com/ar/fairs/g-star-busan-korea-republic/
END:VEVENT
END:VCALENDAR
