BEGIN:VCALENDAR
VERSION:2.0
PRODID:-//Markaut//Trade Fair Calendar//EN
CALSCALE:GREGORIAN
METHOD:PUBLISH
BEGIN:VEVENT
UID:future-food-tech-san-francisco-united-states-of-america@markaut.com
DTSTAMP:20260421T160330Z
DTSTART;VALUE=DATE:20260421
DTEND;VALUE=DATE:20260422
SUMMARY:Future Food-Tech
LOCATION:Mariott Hotel, San Francisco, United States of America
DESCRIPTION:
URL:https://www.markaut.com/ar/fairs/future-food-tech-san-francisco-united-states-of-america/
END:VEVENT
END:VCALENDAR
