BEGIN:VCALENDAR
VERSION:2.0
PRODID:-//Markaut//Trade Fair Calendar//EN
CALSCALE:GREGORIAN
METHOD:PUBLISH
BEGIN:VEVENT
UID:fic-food-ingredients-china-shanghai-china-peoples-republic@markaut.com
DTSTAMP:20260420T061236Z
DTSTART;VALUE=DATE:20260420
DTEND;VALUE=DATE:20260421
SUMMARY:FIC - Food Ingredients China
LOCATION:National Exhibition & Convention Center (NECC), Shanghai, China, People\'s Republic
DESCRIPTION:
URL:https://www.markaut.com/ar/fairs/fic-food-ingredients-china-shanghai-china-peoples-republic/
END:VEVENT
END:VCALENDAR
