BEGIN:VCALENDAR
VERSION:2.0
PRODID:-//Markaut//Trade Fair Calendar//EN
CALSCALE:GREGORIAN
METHOD:PUBLISH
BEGIN:VEVENT
UID:fenavin-ciudad-real-spain@markaut.com
DTSTAMP:20260424T143710Z
DTSTART;VALUE=DATE:20270501
DTEND;VALUE=DATE:20270502
SUMMARY:FENAVIN
LOCATION:Pabellón Ferial, Ciudad Real, Spain
DESCRIPTION:Spanish Wine Fair
URL:https://www.markaut.com/ar/fairs/fenavin-ciudad-real-spain/
END:VEVENT
END:VCALENDAR
