BEGIN:VCALENDAR
VERSION:2.0
PRODID:-//Markaut//Trade Fair Calendar//EN
CALSCALE:GREGORIAN
METHOD:PUBLISH
BEGIN:VEVENT
UID:eurofruit-lleida-spain@markaut.com
DTSTAMP:20260424T100908Z
DTSTART;VALUE=DATE:20270901
DTEND;VALUE=DATE:20270902
SUMMARY:EUROFRUIT
LOCATION:Fira de Lleida, Lleida, Spain
DESCRIPTION:International Sweet Fruit Show
URL:https://www.markaut.com/ar/fairs/eurofruit-lleida-spain/
END:VEVENT
END:VCALENDAR
