BEGIN:VCALENDAR
VERSION:2.0
PRODID:-//Markaut//Trade Fair Calendar//EN
CALSCALE:GREGORIAN
METHOD:PUBLISH
BEGIN:VEVENT
UID:energy-saving-power-efficiency-innovative-technologies-and-equipment-st-petersburg-russia@markaut.com
DTSTAMP:20260422T060920Z
DTSTART;VALUE=DATE:20261001
DTEND;VALUE=DATE:20261002
SUMMARY:ENERGY - SAVING POWER EFFICIENCY. INNOVATIVE TECHNOLOGIES AND EQUIPMENT
LOCATION:ExpoForum, St. Petersburg, Russia
DESCRIPTION:
URL:https://www.markaut.com/ar/fairs/energy-saving-power-efficiency-innovative-technologies-and-equipment-st-petersburg-russia/
END:VEVENT
END:VCALENDAR
