BEGIN:VCALENDAR
VERSION:2.0
PRODID:-//Markaut//Trade Fair Calendar//EN
CALSCALE:GREGORIAN
METHOD:PUBLISH
BEGIN:VEVENT
UID:elektro-moscow-russia@markaut.com
DTSTAMP:20260421T184223Z
DTSTART;VALUE=DATE:20270601
DTEND;VALUE=DATE:20270602
SUMMARY:ELEKTRO
LOCATION:Crocus Expo International Exhibition Centre, Moscow, Russia
DESCRIPTION:Trade Fair for Electrical Equipment, Lighting Engineering, Building
URL:https://www.markaut.com/ar/fairs/elektro-moscow-russia/
END:VEVENT
END:VCALENDAR
