BEGIN:VCALENDAR
VERSION:2.0
PRODID:-//Markaut//Trade Fair Calendar//EN
CALSCALE:GREGORIAN
METHOD:PUBLISH
BEGIN:VEVENT
UID:didac-india-didac-skills-new-delhi-india@markaut.com
DTSTAMP:20260423T164633Z
DTSTART;VALUE=DATE:20271101
DTEND;VALUE=DATE:20271102
SUMMARY:DIDAC INDIA & DIDAC SKILLS
LOCATION:Yashobhoomi (India International Convention & Expo Centre in Dwarka), New Delhi, India
DESCRIPTION:International Exhibition & Conference for the Education and Skills Sector
URL:https://www.markaut.com/ar/fairs/didac-india-didac-skills-new-delhi-india/
END:VEVENT
END:VCALENDAR
