BEGIN:VCALENDAR
VERSION:2.0
PRODID:-//Markaut//Trade Fair Calendar//EN
CALSCALE:GREGORIAN
METHOD:PUBLISH
BEGIN:VEVENT
UID:creativa-dortmund-germany@markaut.com
DTSTAMP:20260421T154634Z
DTSTART;VALUE=DATE:20260421
DTEND;VALUE=DATE:20260422
SUMMARY:CREATIVA
LOCATION:Messe Dortmund, Dortmund, Germany
DESCRIPTION:Europe\'s largest exhibition for creative design
URL:https://www.markaut.com/ar/fairs/creativa-dortmund-germany/
END:VEVENT
END:VCALENDAR
